BEGIN:VCALENDAR
VERSION:2.0
PRODID:-//Archeparchy of Pittsburgh - ECPv6.15.17.1//NONSGML v1.0//EN
CALSCALE:GREGORIAN
METHOD:PUBLISH
X-WR-CALNAME:Archeparchy of Pittsburgh
X-ORIGINAL-URL:https://archpitt.org
X-WR-CALDESC:Events for Archeparchy of Pittsburgh
REFRESH-INTERVAL;VALUE=DURATION:PT1H
X-Robots-Tag:noindex
X-PUBLISHED-TTL:PT1H
BEGIN:VTIMEZONE
TZID:America/New_York
BEGIN:DAYLIGHT
TZOFFSETFROM:-0500
TZOFFSETTO:-0400
TZNAME:EDT
DTSTART:20240310T070000
END:DAYLIGHT
BEGIN:STANDARD
TZOFFSETFROM:-0400
TZOFFSETTO:-0500
TZNAME:EST
DTSTART:20241103T060000
END:STANDARD
BEGIN:DAYLIGHT
TZOFFSETFROM:-0500
TZOFFSETTO:-0400
TZNAME:EDT
DTSTART:20250309T070000
END:DAYLIGHT
BEGIN:STANDARD
TZOFFSETFROM:-0400
TZOFFSETTO:-0500
TZNAME:EST
DTSTART:20251102T060000
END:STANDARD
BEGIN:DAYLIGHT
TZOFFSETFROM:-0500
TZOFFSETTO:-0400
TZNAME:EDT
DTSTART:20260308T070000
END:DAYLIGHT
BEGIN:STANDARD
TZOFFSETFROM:-0400
TZOFFSETTO:-0500
TZNAME:EST
DTSTART:20261101T060000
END:STANDARD
END:VTIMEZONE
BEGIN:VEVENT
DTSTART;TZID=America/New_York:20250427T080000
DTEND;TZID=America/New_York:20250427T190000
DTSTAMP:20260421T004451
CREATED:20250219T144226Z
LAST-MODIFIED:20250317T195602Z
UID:73479-1745740800-1745780400@archpitt.org
SUMMARY:Archeparchial Youth and Young Adult Gathering
DESCRIPTION:  \n  \nThe Office of Youth and Young Adult Ministry invites  \nYOUNG ADULTS (18-39 y.o.\, single\, married)\, TEENS (12-17 y.o.)\, and THEIR PARENTS to come and celebrate THE GIFT of YOUNG PEOPLE in the Church and reflect on HOPE in our lives! \nThe theme of the meeting is: BELIEVE IN HOPE! \n\nWhere? St. John the Baptist Byzantine Catholic Cathedral in Munhall \n\nThe Schedule (subject to change): \n4:00 pm: Divine Liturgy celebrated by the archbishop William Skurla \nAfter the Divine Liturgy: \n\nRefreshment\nWelcome and Topic Introduction\, Icebreakers\nSeparate interactive talks with the guest speakers: Announced soon\nConclusion and prayer (estimated time of the end is 7:00/30 pm)\n\n\n\nTo sign up\, please fill out the form: https://forms.gle/smpDiqMm1tyuydV79 \nBy doing so\, you can help us better prepare for the event.\n\n\nThree categories are listed in the form: Young Adults\, Teens (filled out by parents)\, and Parents coming with teens. Please\, choose the one for you 🙂 \nIf you are a young adult and\, at the same time\, a parent of your teens\, feel free to decide what group you would like to join- we strongly encourage you to join the parents’ talk.\n\n\n\nIn the form\, there are also some deeper questions. If you want to\, you can answer them immediately or think about them for yourself and bring the answers to the gathering. These questions are marked as optional.
URL:https://archpitt.org/events/archeparchial-youth-and-young-adult-gathering/
LOCATION:Cathedral of St. John the Baptist\,  210 Greentree Road  Munhall\, PA 15220\, Cathedral of St. John the Baptist\,  210 Greentree Road  Munhall\, PA 15220
CATEGORIES:Youth and Young Adults
END:VEVENT
END:VCALENDAR