BEGIN:VCALENDAR
VERSION:2.0
PRODID:-//Archeparchy of Pittsburgh - ECPv6.15.17.1//NONSGML v1.0//EN
CALSCALE:GREGORIAN
METHOD:PUBLISH
X-ORIGINAL-URL:https://archpitt.org
X-WR-CALDESC:Events for Archeparchy of Pittsburgh
REFRESH-INTERVAL;VALUE=DURATION:PT1H
X-Robots-Tag:noindex
X-PUBLISHED-TTL:PT1H
BEGIN:VTIMEZONE
TZID:America/New_York
BEGIN:DAYLIGHT
TZOFFSETFROM:-0500
TZOFFSETTO:-0400
TZNAME:EDT
DTSTART:20240310T070000
END:DAYLIGHT
BEGIN:STANDARD
TZOFFSETFROM:-0400
TZOFFSETTO:-0500
TZNAME:EST
DTSTART:20241103T060000
END:STANDARD
BEGIN:DAYLIGHT
TZOFFSETFROM:-0500
TZOFFSETTO:-0400
TZNAME:EDT
DTSTART:20250309T070000
END:DAYLIGHT
BEGIN:STANDARD
TZOFFSETFROM:-0400
TZOFFSETTO:-0500
TZNAME:EST
DTSTART:20251102T060000
END:STANDARD
BEGIN:DAYLIGHT
TZOFFSETFROM:-0500
TZOFFSETTO:-0400
TZNAME:EDT
DTSTART:20260308T070000
END:DAYLIGHT
BEGIN:STANDARD
TZOFFSETFROM:-0400
TZOFFSETTO:-0500
TZNAME:EST
DTSTART:20261101T060000
END:STANDARD
END:VTIMEZONE
BEGIN:VEVENT
DTSTART;TZID=America/New_York:20250405T050000
DTEND;TZID=America/New_York:20250405T200000
DTSTAMP:20260421T004436
CREATED:20250219T150213Z
LAST-MODIFIED:20250219T150213Z
UID:73494-1743829200-1743883200@archpitt.org
SUMMARY:EVENING LIGHT Speaker Series: Holy Week
DESCRIPTION:Three Rivers Theosis invites all young adults to the Evening Light Speaker Series on Fasting and Feasting in the Byzantine Rite \, which is held at the Holy Spirit Byzantine Catholic Church in Oakland on the first Saturday of every month at 5:00 p.m. and is followed by Great Vespers and a Meal afterward. \nMore information on the poster.
URL:https://archpitt.org/events/evening-light-speaker-series-holy-week/
LOCATION:Holy Spirit Church\, 4815 Fifth Ave.\, Oakland\, Holy Spirit Church\, 4815 Fifth Ave.\, Oakland
CATEGORIES:Youth and Young Adults
END:VEVENT
BEGIN:VEVENT
DTSTART;TZID=America/New_York:20250407T190000
DTEND;TZID=America/New_York:20250407T210000
DTSTAMP:20260421T004436
CREATED:20250219T145214Z
LAST-MODIFIED:20250219T145235Z
UID:73488-1744052400-1744059600@archpitt.org
SUMMARY:YOUNG ADULT BIBLE STUDY
DESCRIPTION:The Youth and Young Adult Ministry Office invites all\nYOUNG ADULTS (18-39 y.o.; single\, married) to join us\non Mondays during The GREAT FAST for\nBIBLE STUDY “NO GREATER LOVE”. \n  \n  \n\nIn No Greater Love\, You Will Experience the Unconditional Love Christ Has for You.We often hear about Jesus’ passion and death\, but imagine experiencing them for the very first time. In No Greater Love: A Biblical Walk Through Christ’s Passion\, we are going to walk step-by-step with Jesus on his journey from his agony in the garden to his crucifixion on Calvary.Along the way\, we will unpack the biblical background to these events\, the prophecies\, and most especially\, the ways Jesus is inviting us to walk more closely with him today.\nNo Greater Love is a five-part Bible study program plus one introductory meeting (total 6 meetings).\nWe begin on March 10\, 2025\, at 7:00 pm (for about 2 hours) at the St. John the Baptist Byzantine Catholic Cathedral in Munhall (210 Greentree Rd\, Munhall\, PA 15120)To learn more about the Bible Study\,\nNo Greater Love: A Biblical Walk Through Christ’s Passion – Ascension\nTo register\, fill out the form online here: https://forms.gle/uYf6dJA2wkxQnD3T8\n\nOr fill out the paper form and email it to youth@archpitt.org by February 26\, 2025. \nIf you have any questions\, contact Viktoria Zolnova at youth@archpitt.org.\nAfter you register\, you will receive a confirmation email with further details.\nLooking forward to walking this journey with you!
URL:https://archpitt.org/events/young-adult-bible-study-3/
LOCATION:Cathedral of St. John the Baptist\,  210 Greentree Road  Munhall\, PA 15220\, Cathedral of St. John the Baptist\,  210 Greentree Road  Munhall\, PA 15220
CATEGORIES:Youth and Young Adults
END:VEVENT
BEGIN:VEVENT
DTSTART;TZID=America/New_York:20250414T190000
DTEND;TZID=America/New_York:20250414T210000
DTSTAMP:20260421T004436
CREATED:20250219T145332Z
LAST-MODIFIED:20250219T145332Z
UID:73490-1744657200-1744664400@archpitt.org
SUMMARY:YOUNG ADULT BIBLE STUDY
DESCRIPTION:The Youth and Young Adult Ministry Office invites all\nYOUNG ADULTS (18-39 y.o.; single\, married) to join us\non Mondays during The GREAT FAST for\nBIBLE STUDY “NO GREATER LOVE”. \n  \n  \n\nIn No Greater Love\, You Will Experience the Unconditional Love Christ Has for You.We often hear about Jesus’ passion and death\, but imagine experiencing them for the very first time. In No Greater Love: A Biblical Walk Through Christ’s Passion\, we are going to walk step-by-step with Jesus on his journey from his agony in the garden to his crucifixion on Calvary.Along the way\, we will unpack the biblical background to these events\, the prophecies\, and most especially\, the ways Jesus is inviting us to walk more closely with him today.\nNo Greater Love is a five-part Bible study program plus one introductory meeting (total 6 meetings).\nWe begin on March 10\, 2025\, at 7:00 pm (for about 2 hours) at the St. John the Baptist Byzantine Catholic Cathedral in Munhall (210 Greentree Rd\, Munhall\, PA 15120)To learn more about the Bible Study\,\nNo Greater Love: A Biblical Walk Through Christ’s Passion – Ascension\nTo register\, fill out the form online here: https://forms.gle/uYf6dJA2wkxQnD3T8\n\nOr fill out the paper form and email it to youth@archpitt.org by February 26\, 2025. \nIf you have any questions\, contact Viktoria Zolnova at youth@archpitt.org.\nAfter you register\, you will receive a confirmation email with further details.\nLooking forward to walking this journey with you!
URL:https://archpitt.org/events/young-adult-bible-study-4/
LOCATION:Cathedral of St. John the Baptist\,  210 Greentree Road  Munhall\, PA 15220\, Cathedral of St. John the Baptist\,  210 Greentree Road  Munhall\, PA 15220
CATEGORIES:Youth and Young Adults
END:VEVENT
BEGIN:VEVENT
DTSTART;TZID=America/New_York:20250427T080000
DTEND;TZID=America/New_York:20250427T190000
DTSTAMP:20260421T004436
CREATED:20250219T144226Z
LAST-MODIFIED:20250317T195602Z
UID:73479-1745740800-1745780400@archpitt.org
SUMMARY:Archeparchial Youth and Young Adult Gathering
DESCRIPTION:  \n  \nThe Office of Youth and Young Adult Ministry invites  \nYOUNG ADULTS (18-39 y.o.\, single\, married)\, TEENS (12-17 y.o.)\, and THEIR PARENTS to come and celebrate THE GIFT of YOUNG PEOPLE in the Church and reflect on HOPE in our lives! \nThe theme of the meeting is: BELIEVE IN HOPE! \n\nWhere? St. John the Baptist Byzantine Catholic Cathedral in Munhall \n\nThe Schedule (subject to change): \n4:00 pm: Divine Liturgy celebrated by the archbishop William Skurla \nAfter the Divine Liturgy: \n\nRefreshment\nWelcome and Topic Introduction\, Icebreakers\nSeparate interactive talks with the guest speakers: Announced soon\nConclusion and prayer (estimated time of the end is 7:00/30 pm)\n\n\n\nTo sign up\, please fill out the form: https://forms.gle/smpDiqMm1tyuydV79 \nBy doing so\, you can help us better prepare for the event.\n\n\nThree categories are listed in the form: Young Adults\, Teens (filled out by parents)\, and Parents coming with teens. Please\, choose the one for you 🙂 \nIf you are a young adult and\, at the same time\, a parent of your teens\, feel free to decide what group you would like to join- we strongly encourage you to join the parents’ talk.\n\n\n\nIn the form\, there are also some deeper questions. If you want to\, you can answer them immediately or think about them for yourself and bring the answers to the gathering. These questions are marked as optional.
URL:https://archpitt.org/events/archeparchial-youth-and-young-adult-gathering/
LOCATION:Cathedral of St. John the Baptist\,  210 Greentree Road  Munhall\, PA 15220\, Cathedral of St. John the Baptist\,  210 Greentree Road  Munhall\, PA 15220
CATEGORIES:Youth and Young Adults
END:VEVENT
END:VCALENDAR