BEGIN:VCALENDAR
VERSION:2.0
PRODID:-//Archeparchy of Pittsburgh - ECPv6.15.17.1//NONSGML v1.0//EN
CALSCALE:GREGORIAN
METHOD:PUBLISH
X-ORIGINAL-URL:https://archpitt.org
X-WR-CALDESC:Events for Archeparchy of Pittsburgh
REFRESH-INTERVAL;VALUE=DURATION:PT1H
X-Robots-Tag:noindex
X-PUBLISHED-TTL:PT1H
BEGIN:VTIMEZONE
TZID:America/New_York
BEGIN:DAYLIGHT
TZOFFSETFROM:-0500
TZOFFSETTO:-0400
TZNAME:EDT
DTSTART:20240310T070000
END:DAYLIGHT
BEGIN:STANDARD
TZOFFSETFROM:-0400
TZOFFSETTO:-0500
TZNAME:EST
DTSTART:20241103T060000
END:STANDARD
BEGIN:DAYLIGHT
TZOFFSETFROM:-0500
TZOFFSETTO:-0400
TZNAME:EDT
DTSTART:20250309T070000
END:DAYLIGHT
BEGIN:STANDARD
TZOFFSETFROM:-0400
TZOFFSETTO:-0500
TZNAME:EST
DTSTART:20251102T060000
END:STANDARD
BEGIN:DAYLIGHT
TZOFFSETFROM:-0500
TZOFFSETTO:-0400
TZNAME:EDT
DTSTART:20260308T070000
END:DAYLIGHT
BEGIN:STANDARD
TZOFFSETFROM:-0400
TZOFFSETTO:-0500
TZNAME:EST
DTSTART:20261101T060000
END:STANDARD
END:VTIMEZONE
BEGIN:VEVENT
DTSTART;TZID=America/New_York:20250829T080000
DTEND;TZID=America/New_York:20250901T170000
DTSTAMP:20260420T075004
CREATED:20250219T154554Z
LAST-MODIFIED:20250219T154554Z
UID:73523-1756454400-1756746000@archpitt.org
SUMMARY:Our Lady of Perpetual Help - Pilgrimage- Uniontown
DESCRIPTION:The annual Pilgrimage in honor of Our Lady of Perpetual Help is a special ministry of the Sisters of St. Basil. It has been held every Labor Day weekend since 1934.  It was that year that the Sisters and pilgrims celebrated the blessing of the then newly acquired Monastery for the Sisters. \nIn 1935\, Pope Pius XI gifted the Sisters with a beautiful icon of Our Lady of Perpetual Help requesting that they spread devotion to the Theotokos under that title. \nThe Pilgrimage is a source of ongoing renewal and provides for the diverse spiritual needs of the many pilgrims who frequent this major unifying event in the life of the Byzantine Catholic Church.  Its participants include clergy and faithful from across the country.  The Pilgrimage offers the celebration of Divine Liturgy; opportunities for the Mystery of Reconciliation; Anointing of the Sick; Adult Enrichment Programs; activities for children\, teens\, young adults; and pastoral counseling. \nThe Pilgrimage is the oldest and largest Byzantine Catholic Pilgrimage in the United States. The Sisters welcome all people of faith to share in this special ministry and in its many blessings. \n  \nMore information coming soon.
URL:https://archpitt.org/events/our-lady-of-perpetual-help-pilgrimage-uniontown/
LOCATION:Mount St. Macrina Monastery\, 500 W. Main Street\, P.O. Box 878\, Uniontown\, PA\, 15401\, United States
CATEGORIES:Metropolitan Church
END:VEVENT
BEGIN:VEVENT
DTSTART;TZID=America/New_York:20250716T080000
DTEND;TZID=America/New_York:20250719T170000
DTSTAMP:20260420T075004
CREATED:20250219T153522Z
LAST-MODIFIED:20250219T153522Z
UID:73512-1752652800-1752944400@archpitt.org
SUMMARY:Byzantine Assembly 2025
DESCRIPTION:
URL:https://archpitt.org/events/byzantine-assembly-2025-2/
LOCATION:St. Mary Byzantine Catholic Church\, Whiting\, 2011 Clark Street\, Whiting\, IN\, 46394\, United States
CATEGORIES:Metropolitan Church
END:VEVENT
END:VCALENDAR